BEGIN:VCALENDAR
VERSION:2.0
PRODID:-//www.interioraids.org//NONSGML kigkonsult.se iCalcreator 2.30.10//
CALSCALE:GREGORIAN
METHOD:PUBLISH
UID:f4a47887-9073-46b8-8da0-12bb8aa6d194
X-WR-CALDESC:Do you have clients who get arrested because they lose their c
 ool with law enforcement? Or individuals who cannot negotiate with school 
 administrators or supervisors at work? Do you have clients who go from age
 ncy to agency to get their basic needs met?\n\nThis workshop will introduc
 e the core strategies and constructs behind Bridges Out of Poverty. Bridge
 s uses the lens of economic class and provides concrete tools and strategi
 es for a community to alleviate poverty. Participants will review poverty 
 research\, examine a theory of change\, and analyze poverty through the pr
 ism of the hidden rules of class\, resources\, and language. Join presente
 r Chuck Holt to better understand how the environment of poverty creates b
 arriers for your clients and how your organization can work shoulder to sh
 oulder with those living in daily instability to provide different solutio
 ns to create more stability for your clients\, organizations\, and communi
 ties.\n\nBreakfast goodies will be provided and attendees will be invited 
 to stay afterwards for a brief conversation. Please email bbrado@interiora
 ids.org if you'd like to attend. \n\nIf you're unable to join us in person
 \, feel free to tune in on your own: https://attendee.gototraining.com/r/4
 700643496986650370
X-WR-RELCALID:a76d0d5d0b9f098d5d361b709aaa3d12
X-WR-TIMEZONE:America/Los_Angeles
BEGIN:VTIMEZONE
TZID:America/Los_Angeles
BEGIN:STANDARD
TZNAME:PST
DTSTART:20171105T020000
TZOFFSETFROM:-0700
TZOFFSETTO:-0800
RDATE:20181104T020000
RDATE:20191103T020000
END:STANDARD
BEGIN:DAYLIGHT
TZNAME:PDT
DTSTART:20180311T020000
TZOFFSETFROM:-0800
TZOFFSETTO:-0700
RDATE:20190310T020000
END:DAYLIGHT
END:VTIMEZONE
BEGIN:VEVENT
UID:616e5ede-2a99-4a9e-bb7f-a85ab10bc0a5
DTSTAMP:20260421T081227Z
DESCRIPTION:Do you have clients who get arrested because they lose their co
 ol with law enforcement? Or individuals who cannot negotiate with school a
 dministrators or supervisors at work? Do you have clients who go from agen
 cy to agency to get their basic needs met?\n\nThis workshop will introduce
  the core strategies and constructs behind Bridges Out of Poverty. Bridges
  uses the lens of economic class and provides concrete tools and strategie
 s for a community to alleviate poverty. Participants will review poverty r
 esearch\, examine a theory of change\, and analyze poverty through the pri
 sm of the hidden rules of class\, resources\, and language. Join presenter
  Chuck Holt to better understand how the environment of poverty creates ba
 rriers for your clients and how your organization can work shoulder to sho
 ulder with those living in daily instability to provide different solution
 s to create more stability for your clients\, organizations\, and communit
 ies.\n\nBreakfast goodies will be provided and attendees will be invited t
 o stay afterwards for a brief conversation. Please email bbrado@interiorai
 ds.org if you'd like to attend. \n\nIf you're unable to join us in person\
 , feel free to tune in on your own: https://attendee.gototraining.com/r/47
 00643496986650370
DTSTART;TZID=America/Los_Angeles:20180802T080000
DTEND;TZID=America/Los_Angeles:20180802T093000
LOCATION:706 2nd Ave\, Fairbanks\, AK 99701
SUMMARY:Free 1 hour introductory webinar for Bridges Out of Poverty
END:VEVENT
END:VCALENDAR
