BEGIN:VCALENDAR
VERSION:2.0
PRODID:-//www.interioraids.org//NONSGML kigkonsult.se iCalcreator 2.30.10//
CALSCALE:GREGORIAN
METHOD:PUBLISH
UID:63593396-bd87-40cc-a239-54319997ead8
X-WR-CALDESC:
X-WR-RELCALID:24be6eb19d10e5c77408c559353b4716
X-WR-TIMEZONE:America/Anchorage
BEGIN:VTIMEZONE
TZID:America/Anchorage
BEGIN:STANDARD
TZNAME:AKST
DTSTART:20171105T020000
TZOFFSETFROM:-0800
TZOFFSETTO:-0900
RDATE:20181104T020000
RDATE:20191103T020000
END:STANDARD
BEGIN:DAYLIGHT
TZNAME:AKDT
DTSTART:20180311T020000
TZOFFSETFROM:-0900
TZOFFSETTO:-0800
RDATE:20190310T020000
END:DAYLIGHT
END:VTIMEZONE
BEGIN:VEVENT
UID:a133a3b1-c280-49dd-9841-12c8d059811e
DTSTAMP:20260421T081140Z
DESCRIPTION:
DTSTART;TZID=America/Anchorage:20180829T100000
DTEND;TZID=America/Anchorage:20180829T114500
LOCATION:Fairbanks City Council Chambers
SUMMARY:Fairbanks Opioid Work Group
END:VEVENT
END:VCALENDAR
