BEGIN:VCALENDAR
VERSION:2.0
PRODID:-//www.interioraids.org//NONSGML kigkonsult.se iCalcreator 2.30.10//
CALSCALE:GREGORIAN
METHOD:PUBLISH
UID:6af32f63-3c82-4a0f-bdef-623299d62fb9
X-WR-CALDESC:Do you have clients who get arrested because they lose their c
 ool with law enforcement? Or individuals who cannot negotiate with school 
 administrators or supervisors at work? Do you have clients who go from age
 ncy to agency to get their basic needs met?\n\n\nBridges Out of Poverty us
 es the lens of economic class and provides concrete tools and strategies f
 or a community to alleviate poverty. Participants will review poverty rese
 arch\, examine a theory of change\, and analyze poverty through the prism 
 of the hidden rules of class\, resources\, and language. Join this book st
 udy to better understand how the environment of poverty creates barriers f
 or your clients and how your organization can work shoulder to shoulder wi
 th those living in daily instability to provide different solutions to cre
 ate more stability for your clients\, organizations\, and communities.
X-WR-RELCALID:6b8dff740b3d2572ebcfea7edeec7024
X-WR-TIMEZONE:America/Anchorage
BEGIN:VTIMEZONE
TZID:America/Anchorage
BEGIN:STANDARD
TZNAME:AKST
DTSTART:20171105T020000
TZOFFSETFROM:-0800
TZOFFSETTO:-0900
RDATE:20181104T020000
RDATE:20191103T020000
END:STANDARD
BEGIN:DAYLIGHT
TZNAME:AKDT
DTSTART:20180311T020000
TZOFFSETFROM:-0900
TZOFFSETTO:-0800
RDATE:20190310T020000
RDATE:20200308T020000
END:DAYLIGHT
END:VTIMEZONE
BEGIN:VEVENT
UID:826a62c7-6558-460c-9f7d-3962bf5532a4
DTSTAMP:20260421T093806Z
DESCRIPTION:Do you have clients who get arrested because they lose their co
 ol with law enforcement? Or individuals who cannot negotiate with school a
 dministrators or supervisors at work? Do you have clients who go from agen
 cy to agency to get their basic needs met?\n\n\nBridges Out of Poverty use
 s the lens of economic class and provides concrete tools and strategies fo
 r a community to alleviate poverty. Participants will review poverty resea
 rch\, examine a theory of change\, and analyze poverty through the prism o
 f the hidden rules of class\, resources\, and language. Join this book stu
 dy to better understand how the environment of poverty creates barriers fo
 r your clients and how your organization can work shoulder to shoulder wit
 h those living in daily instability to provide different solutions to crea
 te more stability for your clients\, organizations\, and communities.
DTSTART;TZID=America/Anchorage:20180911T113000
DTEND;TZID=America/Anchorage:20180911T123000
LOCATION:675 7th Ave\, Conference Room A-1\, Fairbanks\, AK 99701
SUMMARY:Bridges Out of Poverty Book Study
END:VEVENT
END:VCALENDAR
