BEGIN:VCALENDAR
VERSION:2.0
PRODID:-//www.interioraids.org//NONSGML kigkonsult.se iCalcreator 2.30.10//
CALSCALE:GREGORIAN
METHOD:PUBLISH
UID:166ddff6-8c7c-4d72-a862-5d8d3b616ac5
X-WR-CALDESC:Do you have a family member\, friend or acquaintance who's in 
 recovery from a substance use disorder?\n\nAre you a person in long term r
 ecovery?\n\nDo you work with people seeking recovery from a substance use 
 disorder?\n\nThe Recovery Walk & Run 5K is a community event to raise awar
 eness about addiction and to create a positive experience for all particip
 ants. \n\nOur message is that recovery is possible and people do get bette
 r. Although addiction is a chronic condition\, it is treatable. There is s
 ignificant stigma regarding addiction\, so the Recovery Walk and Run 5K ho
 pes to change that perception and offer hope. \n\nThis event also serves a
 s a fundraising opportunity to help our community. This year's proceeds wi
 ll be split between Interior AIDS Association's medication-assisted treatm
 ent program and Fairbanks Wellness Court.
X-WR-RELCALID:42f2a781ed2e252fa15c133066208648
X-WR-TIMEZONE:America/Anchorage
BEGIN:VTIMEZONE
TZID:America/Anchorage
BEGIN:STANDARD
TZNAME:AKST
DTSTART:20171105T020000
TZOFFSETFROM:-0800
TZOFFSETTO:-0900
RDATE:20181104T020000
RDATE:20191103T020000
END:STANDARD
BEGIN:DAYLIGHT
TZNAME:AKDT
DTSTART:20180311T020000
TZOFFSETFROM:-0900
TZOFFSETTO:-0800
RDATE:20190310T020000
RDATE:20200308T020000
END:DAYLIGHT
END:VTIMEZONE
BEGIN:VEVENT
UID:5ef16736-d484-4714-a4ff-465e68b18c32
DTSTAMP:20260421T094220Z
DESCRIPTION:Do you have a family member\, friend or acquaintance who's in r
 ecovery from a substance use disorder?\n\nAre you a person in long term re
 covery?\n\nDo you work with people seeking recovery from a substance use d
 isorder?\n\nThe Recovery Walk & Run 5K is a community event to raise aware
 ness about addiction and to create a positive experience for all participa
 nts. \n\nOur message is that recovery is possible and people do get better
 . Although addiction is a chronic condition\, it is treatable. There is si
 gnificant stigma regarding addiction\, so the Recovery Walk and Run 5K hop
 es to change that perception and offer hope. \n\nThis event also serves as
  a fundraising opportunity to help our community. This year's proceeds wil
 l be split between Interior AIDS Association's medication-assisted treatme
 nt program and Fairbanks Wellness Court.
DTSTART;TZID=America/Anchorage:20180916T123000
DTEND;TZID=America/Anchorage:20180916T160000
LOCATION:Golden Heart Plaza\, Downtown Fairbanks
SUMMARY:Recovery 5K Walk & Run
END:VEVENT
END:VCALENDAR
