BEGIN:VCALENDAR
VERSION:2.0
PRODID:-//www.interioraids.org//NONSGML kigkonsult.se iCalcreator 2.30.10//
CALSCALE:GREGORIAN
METHOD:PUBLISH
UID:68a1327c-4778-43e0-b786-25fc440f8214
X-WR-CALDESC:The Anonymous People is a feature documentary film about the o
 ver 23 million Americans living in long-term recovery from addiction to al
 cohol and other drugs.\n\nDeeply entrenched social stigma and discriminati
 on have kept recovery voices silent and faces hidden for decades. The vacu
 um created by this silence has been filled by sensational mass media depic
 tions of people in active addiction that continue to perpetuate a lurid pu
 blic fascination with the dysfunctional side of what is a preventable and 
 treatable health condition. Just like women with breast cancer\, or people
  with HIV/AIDS\, courageous addiction recovery advocates are starting to c
 ome out of the shadows to tell their true stories. The moving story of The
  Anonymous People is told through the faces and voices of the leaders\, vo
 lunteers\, corporate executives\, and celebrities who are laying it all on
  the line to save the lives of others just like them. This passionate new 
 public recovery movement is fueling a changing conversation that aims to t
 ransform public opinion\, and finally shift problematic policy toward last
 ing recovery solutions.\n\nJoin Recover Alaska\, the Fairbanks Opioid Work
 group\, Interior AIDS Association and Fairbanks Native Association for a p
 ublic screening of this important film followed by a panel discussion.
X-WR-RELCALID:6a9d1e451a569b58279018b953fde30d
X-WR-TIMEZONE:America/Anchorage
BEGIN:VTIMEZONE
TZID:America/Anchorage
BEGIN:STANDARD
TZNAME:AKST
DTSTART:20171105T020000
TZOFFSETFROM:-0800
TZOFFSETTO:-0900
RDATE:20181104T020000
RDATE:20191103T020000
END:STANDARD
BEGIN:DAYLIGHT
TZNAME:AKDT
DTSTART:20180311T020000
TZOFFSETFROM:-0900
TZOFFSETTO:-0800
RDATE:20190310T020000
RDATE:20200308T020000
END:DAYLIGHT
END:VTIMEZONE
BEGIN:VEVENT
UID:8914d513-d3cf-4523-810e-75e226174f3e
DTSTAMP:20260421T094356Z
DESCRIPTION:The Anonymous People is a feature documentary film about the ov
 er 23 million Americans living in long-term recovery from addiction to alc
 ohol and other drugs.\n\nDeeply entrenched social stigma and discriminatio
 n have kept recovery voices silent and faces hidden for decades. The vacuu
 m created by this silence has been filled by sensational mass media depict
 ions of people in active addiction that continue to perpetuate a lurid pub
 lic fascination with the dysfunctional side of what is a preventable and t
 reatable health condition. Just like women with breast cancer\, or people 
 with HIV/AIDS\, courageous addiction recovery advocates are starting to co
 me out of the shadows to tell their true stories. The moving story of The 
 Anonymous People is told through the faces and voices of the leaders\, vol
 unteers\, corporate executives\, and celebrities who are laying it all on 
 the line to save the lives of others just like them. This passionate new p
 ublic recovery movement is fueling a changing conversation that aims to tr
 ansform public opinion\, and finally shift problematic policy toward lasti
 ng recovery solutions.\n\nJoin Recover Alaska\, the Fairbanks Opioid Workg
 roup\, Interior AIDS Association and Fairbanks Native Association for a pu
 blic screening of this important film followed by a panel discussion.
DTSTART;TZID=America/Anchorage:20180918T180000
DTEND;TZID=America/Anchorage:20180918T200000
LOCATION:Morris Thompson Center Theater
SUMMARY:The Anonymous People Screening
END:VEVENT
END:VCALENDAR
