BEGIN:VCALENDAR
VERSION:2.0
PRODID:-//www.interioraids.org//NONSGML kigkonsult.se iCalcreator 2.30.10//
CALSCALE:GREGORIAN
METHOD:PUBLISH
UID:d0214e5a-74be-4d81-9d62-580d3aec3eda
X-WR-CALDESC:Jane Gibson serves as the Interior Area Director for the USDA 
 Rural Development agency. Jane’s office is located in Fairbanks and serves
  the following areas of AK: FNSB\, Denali Borough\, Yukon-Koyukuk Census A
 rea\, North Slope Borough\, and the Fairbanks Southeast Census Area.\n\nJa
 ne will be presenting information regarding Rural Development’s programs w
 ith a specific emphasis on those programs that may be of particular assist
 ance to current opioid crisis efforts. Namely: Distance Learning & Telemed
 icine Program\, Community Facilities program\, Rural Business Development 
 Grants\, and Rural Community Development Initiative Grants.\n\nAs usual\, 
 we'll have an opportunity for agencies and organizations to provide an upd
 ate or make an announcement.
X-WR-RELCALID:d78a1d83541a06dfec6e0a3128546fe8
X-WR-TIMEZONE:America/Anchorage
BEGIN:VTIMEZONE
TZID:America/Anchorage
BEGIN:STANDARD
TZNAME:AKST
DTSTART:20171105T020000
TZOFFSETFROM:-0800
TZOFFSETTO:-0900
RDATE:20181104T020000
RDATE:20191103T020000
END:STANDARD
BEGIN:DAYLIGHT
TZNAME:AKDT
DTSTART:20180311T020000
TZOFFSETFROM:-0900
TZOFFSETTO:-0800
RDATE:20190310T020000
RDATE:20200308T020000
END:DAYLIGHT
END:VTIMEZONE
BEGIN:VEVENT
UID:c1f18325-0d9d-428a-b90c-fd4eb5139c90
DTSTAMP:20260421T093957Z
DESCRIPTION:Jane Gibson serves as the Interior Area Director for the USDA R
 ural Development agency. Jane’s office is located in Fairbanks and serves 
 the following areas of AK: FNSB\, Denali Borough\, Yukon-Koyukuk Census Ar
 ea\, North Slope Borough\, and the Fairbanks Southeast Census Area.\n\nJan
 e will be presenting information regarding Rural Development’s programs wi
 th a specific emphasis on those programs that may be of particular assista
 nce to current opioid crisis efforts. Namely: Distance Learning & Telemedi
 cine Program\, Community Facilities program\, Rural Business Development G
 rants\, and Rural Community Development Initiative Grants.\n\nAs usual\, w
 e'll have an opportunity for agencies and organizations to provide an upda
 te or make an announcement.
DTSTART;TZID=America/Anchorage:20180926T100000
DTEND;TZID=America/Anchorage:20180926T114500
LOCATION:Fairbanks City Council Chambers
SUMMARY:Fairbanks Opioid Work Group
END:VEVENT
END:VCALENDAR
