BEGIN:VCALENDAR
VERSION:2.0
PRODID:-//www.interioraids.org//NONSGML kigkonsult.se iCalcreator 2.30.10//
CALSCALE:GREGORIAN
METHOD:PUBLISH
UID:2e28364f-6cad-47cf-af98-0dd6b0addf26
X-WR-CALDESC:This webinar will define pre-exposure prophylaxis (PrEP) for H
 IV and summarize the evidence of PrEP's safety and efficacy for preventing
  HIV infection\, focusing on populations who use substances. It will also 
 describe research aimed at increasing access and adherence to PrEP among i
 ndividuals who use methamphetamine in Seattle\, WA.
X-WR-RELCALID:44357209d93cd1afe096e57bf4d4d0f8
X-WR-TIMEZONE:America/Anchorage
BEGIN:VTIMEZONE
TZID:America/Anchorage
BEGIN:STANDARD
TZNAME:AKST
DTSTART:20171105T020000
TZOFFSETFROM:-0800
TZOFFSETTO:-0900
RDATE:20181104T020000
RDATE:20191103T020000
END:STANDARD
BEGIN:DAYLIGHT
TZNAME:AKDT
DTSTART:20180311T020000
TZOFFSETFROM:-0900
TZOFFSETTO:-0800
RDATE:20190310T020000
RDATE:20200308T020000
END:DAYLIGHT
END:VTIMEZONE
BEGIN:VEVENT
UID:39c9ba9c-ec58-46f4-8fbd-0c29304e5b77
DTSTAMP:20260421T094336Z
DESCRIPTION:This webinar will define pre-exposure prophylaxis (PrEP) for HI
 V and summarize the evidence of PrEP's safety and efficacy for preventing 
 HIV infection\, focusing on populations who use substances. It will also d
 escribe research aimed at increasing access and adherence to PrEP among in
 dividuals who use methamphetamine in Seattle\, WA.
DTSTART;TZID=America/Anchorage:20180926T110000
DTEND;TZID=America/Anchorage:20180926T120000
LOCATION:Online
SUMMARY:Webinar: Pre-Exposure Prophylaxis (PrEP) for HIV Prevention Among P
 eople Who Use Substances
END:VEVENT
END:VCALENDAR
