BEGIN:VCALENDAR
VERSION:2.0
PRODID:-//www.interioraids.org//NONSGML kigkonsult.se iCalcreator 2.30.10//
CALSCALE:GREGORIAN
METHOD:PUBLISH
UID:1df9afb6-89aa-4a45-97f1-6cb4da0ac4ce
X-WR-CALDESC:DEA\, community leaders and experts will discuss the ongoing o
 pioid epidemic and the impact on Fairbanks and surrounding areas. Presenta
 tions will include information on current drug trends\, resources availabl
 e\, and public involvement in resolving the ongoing opioid crisis.
X-WR-RELCALID:36ecd357a7ec78146a691ce76834cd97
X-WR-TIMEZONE:America/Anchorage
BEGIN:VTIMEZONE
TZID:America/Anchorage
BEGIN:STANDARD
TZNAME:AKST
DTSTART:20171105T020000
TZOFFSETFROM:-0800
TZOFFSETTO:-0900
RDATE:20181104T020000
RDATE:20191103T020000
END:STANDARD
BEGIN:DAYLIGHT
TZNAME:AKDT
DTSTART:20180311T020000
TZOFFSETFROM:-0900
TZOFFSETTO:-0800
RDATE:20190310T020000
RDATE:20200308T020000
END:DAYLIGHT
END:VTIMEZONE
BEGIN:VEVENT
UID:7430a73e-ad9d-4b66-b123-27b9fb67ef92
DTSTAMP:20260423T084910Z
DESCRIPTION:DEA\, community leaders and experts will discuss the ongoing op
 ioid epidemic and the impact on Fairbanks and surrounding areas. Presentat
 ions will include information on current drug trends\, resources available
 \, and public involvement in resolving the ongoing opioid crisis.
DTSTART;TZID=America/Anchorage:20181016T170000
DTEND;TZID=America/Anchorage:20181016T200000
LOCATION:Westmark Hotel\, 813 Noble St\, Fairbanks\, AK 99701
SUMMARY:US DEA Opioid Summit
END:VEVENT
END:VCALENDAR
