BEGIN:VCALENDAR
VERSION:2.0
PRODID:-//www.interioraids.org//NONSGML kigkonsult.se iCalcreator 2.30.10//
CALSCALE:GREGORIAN
METHOD:PUBLISH
UID:0f7ef5d4-6a19-4242-81f4-9275a591e6eb
X-WR-CALDESC:The purpose of this training is to begin the process of organi
 zing individuals\, families\, communities\, organizations\, and other stak
 eholders to fight for better public policy and services around addiction\,
  treatment\, prevention\, and recovery!\n\nTopics covered:\n• Background o
 n Facing Addiction with NCADD\n• Information on the Communities Project\n•
  Community Organizing – Goal Development\n• Community Organizing – Strateg
 ies & Tactics\n• Information on the Project Moving Forward
X-WR-RELCALID:a1f1b5b681fa29f605eef37776228d9e
X-WR-TIMEZONE:America/Anchorage
BEGIN:VTIMEZONE
TZID:America/Anchorage
BEGIN:STANDARD
TZNAME:AKST
DTSTART:20171105T020000
TZOFFSETFROM:-0800
TZOFFSETTO:-0900
RDATE:20181104T020000
RDATE:20191103T020000
END:STANDARD
BEGIN:DAYLIGHT
TZNAME:AKDT
DTSTART:20180311T020000
TZOFFSETFROM:-0900
TZOFFSETTO:-0800
RDATE:20190310T020000
RDATE:20200308T020000
END:DAYLIGHT
END:VTIMEZONE
BEGIN:VEVENT
UID:66977471-9fac-465e-8542-6071084f53e0
DTSTAMP:20260423T084910Z
DESCRIPTION:The purpose of this training is to begin the process of organiz
 ing individuals\, families\, communities\, organizations\, and other stake
 holders to fight for better public policy and services around addiction\, 
 treatment\, prevention\, and recovery!\n\nTopics covered:\n• Background on
  Facing Addiction with NCADD\n• Information on the Communities Project\n• 
 Community Organizing – Goal Development\n• Community Organizing – Strategi
 es & Tactics\n• Information on the Project Moving Forward
DTSTART;TZID=America/Anchorage:20181025T160000
DTEND;TZID=America/Anchorage:20181025T200000
LOCATION:Bread Line\, 507 Gaffney Rd\, Fairbanks\, AK 99701
SUMMARY:Community Organizing
END:VEVENT
END:VCALENDAR
