BEGIN:VCALENDAR
VERSION:2.0
PRODID:-//www.interioraids.org//NONSGML kigkonsult.se iCalcreator 2.30.10//
CALSCALE:GREGORIAN
METHOD:PUBLISH
UID:729a4e0c-95ba-4bcf-99d2-4b128990bbff
X-WR-CALDESC:Turn in any unused or expired prescription drugs (NO syringes)
 \, including opioids to any of the locations participating in National Pre
 scription Drug Take Back Day:\n\nAlaska State Troopers\n1979 Peger Road\n
 \nNorth Pole Police Department\n125 Snowman Lane\n\nFred Meyer East and Fr
 ed Meyer West\n\nFairbanks Police Department\n911 Cushman Street\n\nProtec
 t your family and our community by safely disposing of unused prescription
  opioids. Opioids such as Oxycontin carry significant risks of addiction a
 nd overdose. It takes all of us to make a difference.\n\nThe National Pres
 cription Drug Take Back Day addresses a crucial public safety and public h
 ealth issue. According to the 2016 National Survey on Drug Use and Health\
 , a majority of abused prescription drugs were obtained from family and fr
 iends--often from the home medicine cabinet.\n\nThe DEA’s Take Back Day ev
 ents provide an opportunity for Americans to prevent drug addiction and ov
 erdose deaths.
X-WR-RELCALID:c9194a606f3b12062db73edf079fa4e9
X-WR-TIMEZONE:America/Anchorage
BEGIN:VTIMEZONE
TZID:America/Anchorage
BEGIN:STANDARD
TZNAME:AKST
DTSTART:20171105T020000
TZOFFSETFROM:-0800
TZOFFSETTO:-0900
RDATE:20181104T020000
RDATE:20191103T020000
END:STANDARD
BEGIN:DAYLIGHT
TZNAME:AKDT
DTSTART:20180311T020000
TZOFFSETFROM:-0900
TZOFFSETTO:-0800
RDATE:20190310T020000
RDATE:20200308T020000
END:DAYLIGHT
END:VTIMEZONE
BEGIN:VEVENT
UID:20068966-0a61-42ce-a089-9096a2959fc3
DTSTAMP:20260423T084110Z
DESCRIPTION:Turn in any unused or expired prescription drugs (NO syringes)\
 , including opioids to any of the locations participating in National Pres
 cription Drug Take Back Day:\n\nAlaska State Troopers\n1979 Peger Road\n\n
 North Pole Police Department\n125 Snowman Lane\n\nFred Meyer East and Fred
  Meyer West\n\nFairbanks Police Department\n911 Cushman Street\n\nProtect 
 your family and our community by safely disposing of unused prescription o
 pioids. Opioids such as Oxycontin carry significant risks of addiction and
  overdose. It takes all of us to make a difference.\n\nThe National Prescr
 iption Drug Take Back Day addresses a crucial public safety and public hea
 lth issue. According to the 2016 National Survey on Drug Use and Health\, 
 a majority of abused prescription drugs were obtained from family and frie
 nds--often from the home medicine cabinet.\n\nThe DEA’s Take Back Day even
 ts provide an opportunity for Americans to prevent drug addiction and over
 dose deaths.
DTSTART;TZID=America/Anchorage:20181027T100000
DTEND;TZID=America/Anchorage:20181027T140000
LOCATION:Multiple Locations
SUMMARY:Drug Take Back Day
END:VEVENT
END:VCALENDAR
