BEGIN:VCALENDAR
VERSION:2.0
PRODID:-//www.interioraids.org//NONSGML kigkonsult.se iCalcreator 2.30.10//
CALSCALE:GREGORIAN
METHOD:PUBLISH
UID:a1a56e29-08fc-40ea-8ea5-7ca48604d315
X-WR-CALDESC:Interior AIDS Association's core purpose is to improve the qua
 lity of life of Interior Alaskans through harm reduction.\n\nThis meeting 
 is open to any individuals who care deeply about the success of Interior A
 IDS Association in meeting its mission. \n\nJoin us to weigh in on updated
  bylaws and to get an update on IAA's work in our community! Please bring 
 a dish to share if you're able.
X-WR-RELCALID:0dd1c4fa25ce8ab17a6984111a5954fe
X-WR-TIMEZONE:America/Anchorage
BEGIN:VTIMEZONE
TZID:America/Anchorage
BEGIN:STANDARD
TZNAME:AKST
DTSTART:20181104T020000
TZOFFSETFROM:-0800
TZOFFSETTO:-0900
RDATE:20191103T020000
END:STANDARD
BEGIN:DAYLIGHT
TZNAME:AKDT
DTSTART:20180311T020000
TZOFFSETFROM:-0900
TZOFFSETTO:-0800
RDATE:20190310T020000
RDATE:20200308T020000
END:DAYLIGHT
END:VTIMEZONE
BEGIN:VEVENT
UID:cc8bc231-dc39-418e-8684-1e9559a9a20e
DTSTAMP:20260419T231601Z
DESCRIPTION:Interior AIDS Association's core purpose is to improve the qual
 ity of life of Interior Alaskans through harm reduction.\n\nThis meeting i
 s open to any individuals who care deeply about the success of Interior AI
 DS Association in meeting its mission. \n\nJoin us to weigh in on updated 
 bylaws and to get an update on IAA's work in our community! Please bring a
  dish to share if you're able.
DTSTART;TZID=America/Anchorage:20181108T180000
DTEND;TZID=America/Anchorage:20181108T200000
LOCATION:Interior AIDS Association\, 709 2nd Ave\, Fairbanks\, AK 99701
SUMMARY:Annual Meeting
END:VEVENT
END:VCALENDAR
