BEGIN:VCALENDAR
VERSION:2.0
PRODID:-//www.interioraids.org//NONSGML kigkonsult.se iCalcreator 2.30.10//
CALSCALE:GREGORIAN
METHOD:PUBLISH
UID:4165ed93-00d0-40ad-8012-243ded6873c4
X-WR-CALDESC:At our initial meeting attendees expressed interest in working
  on a community center that features resources and peer support (for retur
 ning citizens\, people in recovery and people experiencing homelessness).
 \n \nA follow up meeting has been scheduled for Wednesday\, November 14th 
 from 6 pm - 8 pm at Bread Line (507 Gaffney) and you are invited! No regis
 tration is required.\n \nThis meeting will help us identify other folks in
 terested in this project and see if there are other pressing goals related
  to addiction/recovery our community wants to work on.
X-WR-RELCALID:db1cf72eaf5a60a8e4b53efab30a50fd
X-WR-TIMEZONE:America/Anchorage
BEGIN:VTIMEZONE
TZID:America/Anchorage
BEGIN:STANDARD
TZNAME:AKST
DTSTART:20181104T020000
TZOFFSETFROM:-0800
TZOFFSETTO:-0900
RDATE:20191103T020000
END:STANDARD
BEGIN:DAYLIGHT
TZNAME:AKDT
DTSTART:20180311T020000
TZOFFSETFROM:-0900
TZOFFSETTO:-0800
RDATE:20190310T020000
RDATE:20200308T020000
END:DAYLIGHT
END:VTIMEZONE
BEGIN:VEVENT
UID:6b0f086c-10e9-4cd2-9222-13d07384a5ca
DTSTAMP:20260423T100828Z
DESCRIPTION:At our initial meeting attendees expressed interest in working 
 on a community center that features resources and peer support (for return
 ing citizens\, people in recovery and people experiencing homelessness).\n
  \nA follow up meeting has been scheduled for Wednesday\, November 14th fr
 om 6 pm - 8 pm at Bread Line (507 Gaffney) and you are invited! No registr
 ation is required.\n \nThis meeting will help us identify other folks inte
 rested in this project and see if there are other pressing goals related t
 o addiction/recovery our community wants to work on.
DTSTART;TZID=America/Anchorage:20181114T180000
DTEND;TZID=America/Anchorage:20181114T200000
LOCATION:Bread Line\, 507 Gaffney Rd\, Fairbanks
SUMMARY:Community Organizing Follow Up Meeting
END:VEVENT
END:VCALENDAR
