BEGIN:VCALENDAR
VERSION:2.0
PRODID:-//www.interioraids.org//NONSGML kigkonsult.se iCalcreator 2.30.10//
CALSCALE:GREGORIAN
METHOD:PUBLISH
UID:3ea6cc42-15bc-445b-86b0-e94210e4da0d
X-WR-CALDESC:Update on Community Organizing project and next steps on creat
 ing a community center that features resources and peer support (for retur
 ning citizens\, people in recovery and people experiencing homelessness). 
 \n\nSpecial guest Cathleen McLaughlin with Partners Reentry Center in Anch
 orage will talk about that program and how to get a similar center up and 
 running in Fairbanks!
X-WR-RELCALID:339660a194ef2da68f73b6c2e22d567c
X-WR-TIMEZONE:America/Anchorage
BEGIN:VTIMEZONE
TZID:America/Anchorage
BEGIN:STANDARD
TZNAME:AKST
DTSTART:20181104T020000
TZOFFSETFROM:-0800
TZOFFSETTO:-0900
RDATE:20191103T020000
END:STANDARD
BEGIN:DAYLIGHT
TZNAME:AKDT
DTSTART:20180311T020000
TZOFFSETFROM:-0900
TZOFFSETTO:-0800
RDATE:20190310T020000
RDATE:20200308T020000
END:DAYLIGHT
END:VTIMEZONE
BEGIN:VEVENT
UID:70025a04-a51d-4d11-87e7-b02a63ce0ed7
DTSTAMP:20260423T100904Z
DESCRIPTION:Update on Community Organizing project and next steps on creati
 ng a community center that features resources and peer support (for return
 ing citizens\, people in recovery and people experiencing homelessness). 
 \n\nSpecial guest Cathleen McLaughlin with Partners Reentry Center in Anch
 orage will talk about that program and how to get a similar center up and 
 running in Fairbanks!
DTSTART;TZID=America/Anchorage:20181128T100000
DTEND;TZID=America/Anchorage:20181128T114500
LOCATION:Fairbanks City Council Chambers
SUMMARY:Fairbanks Opioid Work Group
END:VEVENT
END:VCALENDAR
