BEGIN:VCALENDAR
VERSION:2.0
PRODID:-//www.interioraids.org//NONSGML kigkonsult.se iCalcreator 2.30.10//
CALSCALE:GREGORIAN
METHOD:PUBLISH
UID:36b010d0-180d-4ce3-9abc-b13363c0571c
X-WR-CALDESC:World AIDS Day is observed each year on December 1 and is an o
 pportunity for people worldwide to unite in the fight against HIV\, show t
 heir support for people living with HIV\, and remember those who have died
 . Started in 1988\, World AIDS Day was the first ever global health day.
X-WR-RELCALID:a841920dfb01a9aa70647ae2d84e7f78
X-WR-TIMEZONE:America/Anchorage
BEGIN:VTIMEZONE
TZID:America/Anchorage
BEGIN:STANDARD
TZNAME:AKST
DTSTART:20181104T020000
TZOFFSETFROM:-0800
TZOFFSETTO:-0900
RDATE:20191103T020000
END:STANDARD
BEGIN:DAYLIGHT
TZNAME:AKDT
DTSTART:20180311T020000
TZOFFSETFROM:-0900
TZOFFSETTO:-0800
RDATE:20190310T020000
RDATE:20200308T020000
END:DAYLIGHT
END:VTIMEZONE
BEGIN:VEVENT
UID:76501894-8f98-421a-9099-c269a78340fc
DTSTAMP:20260423T114052Z
DESCRIPTION:World AIDS Day is observed each year on December 1 and is an op
 portunity for people worldwide to unite in the fight against HIV\, show th
 eir support for people living with HIV\, and remember those who have died.
  Started in 1988\, World AIDS Day was the first ever global health day.
DTSTART;TZID=America/Anchorage:20181201T130000
DTEND;TZID=America/Anchorage:20181201T150000
LOCATION:Morris Thompson Cultural & Visitors Center
SUMMARY:World AIDS Day
END:VEVENT
END:VCALENDAR
