BEGIN:VCALENDAR
VERSION:2.0
PRODID:-//www.interioraids.org//NONSGML kigkonsult.se iCalcreator 2.30.10//
CALSCALE:GREGORIAN
METHOD:PUBLISH
UID:c232f6c1-4c96-43aa-94e8-bba2ca7c4345
X-WR-CALDESC:
X-WR-RELCALID:244d5046b08d538fe49de59cf4be1bbd
X-WR-TIMEZONE:America/Anchorage
BEGIN:VTIMEZONE
TZID:America/Anchorage
BEGIN:STANDARD
TZNAME:AKST
DTSTART:20181104T020000
TZOFFSETFROM:-0800
TZOFFSETTO:-0900
RDATE:20191103T020000
END:STANDARD
BEGIN:DAYLIGHT
TZNAME:AKDT
DTSTART:20180311T020000
TZOFFSETFROM:-0900
TZOFFSETTO:-0800
RDATE:20190310T020000
RDATE:20200308T020000
END:DAYLIGHT
END:VTIMEZONE
BEGIN:VEVENT
UID:ae6d2beb-4a65-42cc-a4f3-9a12a764779a
DTSTAMP:20260423T125311Z
DESCRIPTION:
DTSTART;TZID=America/Anchorage:20190130T100000
DTEND;TZID=America/Anchorage:20190130T114500
LOCATION:Fairbanks City Council Chambers
SUMMARY:Fairbanks Opioid Work Group
END:VEVENT
END:VCALENDAR
