BEGIN:VCALENDAR
VERSION:2.0
PRODID:-//www.interioraids.org//NONSGML kigkonsult.se iCalcreator 2.30.10//
CALSCALE:GREGORIAN
METHOD:PUBLISH
UID:402913da-e413-4ce7-810a-de2dbcba7fe3
X-WR-CALDESC:Our next meeting will be during the lunch break of the Symposi
 um on Homelessness that’s happening on 2/27 at Northern Latitudes restaura
 nt in the Westmark. It will be free to attend and eat but you must pre-reg
 ister: https://www.eventbrite.com/e/fairbanks-symposium-on-homelessness-ii
 -tickets-48623379838
X-WR-RELCALID:3ae4247434e06225f4a4d54e5af1d18b
X-WR-TIMEZONE:America/Anchorage
BEGIN:VTIMEZONE
TZID:America/Anchorage
BEGIN:STANDARD
TZNAME:AKST
DTSTART:20181104T020000
TZOFFSETFROM:-0800
TZOFFSETTO:-0900
RDATE:20191103T020000
END:STANDARD
BEGIN:DAYLIGHT
TZNAME:AKDT
DTSTART:20180311T020000
TZOFFSETFROM:-0900
TZOFFSETTO:-0800
RDATE:20190310T020000
RDATE:20200308T020000
END:DAYLIGHT
END:VTIMEZONE
BEGIN:VEVENT
UID:4dfb62c5-ebe2-49bc-a650-be55eaa3bde7
DTSTAMP:20260423T144540Z
DESCRIPTION:Our next meeting will be during the lunch break of the Symposiu
 m on Homelessness that’s happening on 2/27 at Northern Latitudes restauran
 t in the Westmark. It will be free to attend and eat but you must pre-regi
 ster: https://www.eventbrite.com/e/fairbanks-symposium-on-homelessness-ii-
 tickets-48623379838
DTSTART;TZID=America/Anchorage:20190227T113000
DTEND;TZID=America/Anchorage:20190227T130000
LOCATION:Red Lantern
SUMMARY:Fairbanks Opioid Work Group
END:VEVENT
END:VCALENDAR
