BEGIN:VCALENDAR
VERSION:2.0
PRODID:-//www.interioraids.org//NONSGML kigkonsult.se iCalcreator 2.30.10//
CALSCALE:GREGORIAN
METHOD:PUBLISH
UID:d43480bf-4f27-4279-ad00-a354020214d9
X-WR-CALDESC:
X-WR-RELCALID:6bd220ada9526788e9c548eab7c3c1d2
X-WR-TIMEZONE:America/Anchorage
BEGIN:VTIMEZONE
TZID:America/Anchorage
BEGIN:STANDARD
TZNAME:AKST
DTSTART:20181104T020000
TZOFFSETFROM:-0800
TZOFFSETTO:-0900
RDATE:20191103T020000
END:STANDARD
BEGIN:DAYLIGHT
TZNAME:AKDT
DTSTART:20180311T020000
TZOFFSETFROM:-0900
TZOFFSETTO:-0800
RDATE:20190310T020000
RDATE:20200308T020000
END:DAYLIGHT
END:VTIMEZONE
BEGIN:VEVENT
UID:14d881f2-7f0a-46b8-b95b-283510863d53
DTSTAMP:20260423T162411Z
DESCRIPTION:
DTSTART;TZID=America/Anchorage:20190310T000000
DTEND;TZID=America/Anchorage:20190310T235900
LOCATION:
SUMMARY:National Women and Girls HIV/AIDS Awareness Day
END:VEVENT
END:VCALENDAR
