BEGIN:VCALENDAR
VERSION:2.0
PRODID:-//www.interioraids.org//NONSGML kigkonsult.se iCalcreator 2.30.10//
CALSCALE:GREGORIAN
METHOD:PUBLISH
UID:665939fa-73f0-4d9e-8c26-24f697346efe
X-WR-CALDESC:National Native HIV/AIDS Awareness Day (NNHAAD) is a nationwid
 e effort designed to promote HIV testing in Native communities through edu
 cational materials and use of marketing strategies.\n\nGoals and Objective
 s\nEncourage Native people to get educated and to learn more about HIV/AID
 S and its impact in their community\;\nWork together to encourage testing 
 options and HIV counseling in Native communities\;\nHelp decrease the stig
 ma associated with HIV/AIDS.
X-WR-RELCALID:b4d7d61faadd6f708ef245c0ae6cac1a
X-WR-TIMEZONE:America/Anchorage
BEGIN:VTIMEZONE
TZID:America/Anchorage
BEGIN:STANDARD
TZNAME:AKST
DTSTART:20181104T020000
TZOFFSETFROM:-0800
TZOFFSETTO:-0900
RDATE:20191103T020000
END:STANDARD
BEGIN:DAYLIGHT
TZNAME:AKDT
DTSTART:20190310T020000
TZOFFSETFROM:-0900
TZOFFSETTO:-0800
RDATE:20200308T020000
END:DAYLIGHT
END:VTIMEZONE
BEGIN:VEVENT
UID:8426ae70-7a8f-4b1a-ad5a-66b2680685d6
DTSTAMP:20260423T161947Z
DESCRIPTION:National Native HIV/AIDS Awareness Day (NNHAAD) is a nationwide
  effort designed to promote HIV testing in Native communities through educ
 ational materials and use of marketing strategies.\n\nGoals and Objectives
 \nEncourage Native people to get educated and to learn more about HIV/AIDS
  and its impact in their community\;\nWork together to encourage testing o
 ptions and HIV counseling in Native communities\;\nHelp decrease the stigm
 a associated with HIV/AIDS.
DTSTART;TZID=America/Anchorage:20190320T110000
DTEND;TZID=America/Anchorage:20190320T150000
LOCATION:710 3rd Ave\, Fairbanks\, AK 99701
SUMMARY:National Native HIV/AIDS Awareness Day
END:VEVENT
END:VCALENDAR
