BEGIN:VCALENDAR
VERSION:2.0
PRODID:-//www.interioraids.org//NONSGML kigkonsult.se iCalcreator 2.30.10//
CALSCALE:GREGORIAN
METHOD:PUBLISH
UID:e1ed626f-5a1d-405d-bae5-56b363d5bd2a
X-WR-CALDESC:April 18\, 2016 marked the inaugural National Transgender HIV 
 Testing Day (NTHTD). NTHTD is a day set aside to recognize the importance 
 of HIV testing and continued focus on HIV prevention and treatment efforts
  among trans people. In particular\, trans women of color have disproporti
 onately high HIV prevalence and less access to culturally competent care. 
 HIV testing is an effective prevention tool that can actively engage trans
  people in their sexual health and wellness while empowering them to make 
 health choices that improve their lives. HIV testing also allows health ca
 re providers to identify those who are HIV positive and to start treatment
  efforts sooner.
X-WR-RELCALID:05e41c2fd26169fded0e0c66872d1006
X-WR-TIMEZONE:America/Anchorage
BEGIN:VTIMEZONE
TZID:America/Anchorage
BEGIN:STANDARD
TZNAME:AKST
DTSTART:20181104T020000
TZOFFSETFROM:-0800
TZOFFSETTO:-0900
RDATE:20191103T020000
END:STANDARD
BEGIN:DAYLIGHT
TZNAME:AKDT
DTSTART:20190310T020000
TZOFFSETFROM:-0900
TZOFFSETTO:-0800
RDATE:20200308T020000
END:DAYLIGHT
END:VTIMEZONE
BEGIN:VEVENT
UID:bb603f4b-795b-436a-a253-e54556f0ee9e
DTSTAMP:20260423T174643Z
DESCRIPTION:April 18\, 2016 marked the inaugural National Transgender HIV T
 esting Day (NTHTD). NTHTD is a day set aside to recognize the importance o
 f HIV testing and continued focus on HIV prevention and treatment efforts 
 among trans people. In particular\, trans women of color have disproportio
 nately high HIV prevalence and less access to culturally competent care. H
 IV testing is an effective prevention tool that can actively engage trans 
 people in their sexual health and wellness while empowering them to make h
 ealth choices that improve their lives. HIV testing also allows health car
 e providers to identify those who are HIV positive and to start treatment 
 efforts sooner.
DTSTART;TZID=America/Anchorage:20190418T110000
DTEND;TZID=America/Anchorage:20190418T150000
LOCATION:710 3rd Ave\, Fairbanks\, AK 99701
SUMMARY:National Transgender HIV Testing Day
END:VEVENT
END:VCALENDAR
