BEGIN:VCALENDAR
VERSION:2.0
PRODID:-//www.interioraids.org//NONSGML kigkonsult.se iCalcreator 2.30.10//
CALSCALE:GREGORIAN
METHOD:PUBLISH
UID:9bff14e4-d4e8-4e0b-9aa6-d0a98b83c450
X-WR-CALDESC:
X-WR-RELCALID:b9bcd7223ffecdfc56cd76241b431eed
X-WR-TIMEZONE:America/Anchorage
BEGIN:VTIMEZONE
TZID:America/Anchorage
BEGIN:STANDARD
TZNAME:AKST
DTSTART:20181104T020000
TZOFFSETFROM:-0800
TZOFFSETTO:-0900
RDATE:20191103T020000
END:STANDARD
BEGIN:DAYLIGHT
TZNAME:AKDT
DTSTART:20190310T020000
TZOFFSETFROM:-0900
TZOFFSETTO:-0800
RDATE:20200308T020000
END:DAYLIGHT
END:VTIMEZONE
BEGIN:VEVENT
UID:65bc26c2-9aec-4f43-92e2-bdc096cada32
DTSTAMP:20260423T175059Z
DESCRIPTION:
DTSTART;TZID=America/Anchorage:20190424T100000
DTEND;TZID=America/Anchorage:20190424T114500
LOCATION:https://us02web.zoom.us/j/83920111608?pwd=SUNuVCtGb2k4VVRCMUErcGdu
 WGZjZz09
SUMMARY:Fairbanks Opioid Work Group
END:VEVENT
END:VCALENDAR
