BEGIN:VCALENDAR
VERSION:2.0
PRODID:-//www.interioraids.org//NONSGML kigkonsult.se iCalcreator 2.30.10//
CALSCALE:GREGORIAN
METHOD:PUBLISH
UID:c1ad2ef4-85cd-492f-b7f5-8efbbba2dc3b
X-WR-CALDESC:
X-WR-RELCALID:a3f543e27ac6b816efd3e565cada7b23
X-WR-TIMEZONE:America/Anchorage
BEGIN:VTIMEZONE
TZID:America/Anchorage
BEGIN:STANDARD
TZNAME:AKST
DTSTART:20201101T020000
TZOFFSETFROM:-0800
TZOFFSETTO:-0900
RDATE:20211107T020000
END:STANDARD
BEGIN:DAYLIGHT
TZNAME:AKDT
DTSTART:20200308T020000
TZOFFSETFROM:-0900
TZOFFSETTO:-0800
RDATE:20210314T020000
RDATE:20220313T020000
END:DAYLIGHT
END:VTIMEZONE
BEGIN:VEVENT
UID:648848d8-9874-4c4a-82cd-ef822f82ea35
DTSTAMP:20260426T043059Z
DESCRIPTION:
DTSTART;TZID=America/Anchorage:20210127T100000
DTEND;TZID=America/Anchorage:20210127T114500
LOCATION:https://us02web.zoom.us/j/83920111608?pwd=SUNuVCtGb2k4VVRCMUErcGdu
 WGZjZz09
SUMMARY:Fairbanks Opioid Work Group
END:VEVENT
END:VCALENDAR
