BEGIN:VCALENDAR
VERSION:2.0
PRODID:-//www.interioraids.org//NONSGML kigkonsult.se iCalcreator 2.30.10//
CALSCALE:GREGORIAN
METHOD:PUBLISH
UID:9b238fa4-8712-4c88-b895-143f7fc557fa
X-WR-CALDESC:Free\, confidential HIV and Hepatitis C testing\, at home HIV 
 testing kits\, Narcan\, reproductive health\, and sterile substance use su
 pplies. Do you have questions? Come ask us!
X-WR-RELCALID:e1505bca0ec0ad9d39852514d791f2f4
X-WR-TIMEZONE:America/Anchorage
BEGIN:VTIMEZONE
TZID:America/Anchorage
BEGIN:STANDARD
TZNAME:AKST
DTSTART:20201101T020000
TZOFFSETFROM:-0800
TZOFFSETTO:-0900
RDATE:20211107T020000
RDATE:20221106T020000
END:STANDARD
BEGIN:DAYLIGHT
TZNAME:AKDT
DTSTART:20210314T020000
TZOFFSETFROM:-0900
TZOFFSETTO:-0800
RDATE:20220313T020000
END:DAYLIGHT
END:VTIMEZONE
BEGIN:VEVENT
UID:5ff3bb15-d749-475f-b0e2-8e103b3b2fe2
DTSTAMP:20260425T203415Z
DESCRIPTION:Free\, confidential HIV and Hepatitis C testing\, at home HIV t
 esting kits\, Narcan\, reproductive health\, and sterile substance use sup
 plies. Do you have questions? Come ask us!
DTSTART;TZID=America/Anchorage:20210621T100000
DTEND;TZID=America/Anchorage:20210621T140000
LOCATION:Ken Kunkle Community Center\, 2645 Gold Stream Rd. Fairbanks\, AK
SUMMARY:HIV Testing Week Event
END:VEVENT
END:VCALENDAR
