BEGIN:VCALENDAR
VERSION:2.0
PRODID:-//www.interioraids.org//NONSGML kigkonsult.se iCalcreator 2.30.10//
CALSCALE:GREGORIAN
METHOD:PUBLISH
UID:cfd965d0-8c66-4a10-94fc-1fe56dabf6fc
X-WR-CALDESC:Free\, confidential HIV and Hepatitis C testing\, at home HIV 
 testing kits\, Narcan\, reproductive health\, and sterile substance use su
 pplies. Do you have questions? Come ask us!
X-WR-RELCALID:f0965f2df03c8b4a10fb5cff368d7966
X-WR-TIMEZONE:America/Anchorage
BEGIN:VTIMEZONE
TZID:America/Anchorage
BEGIN:STANDARD
TZNAME:AKST
DTSTART:20201101T020000
TZOFFSETFROM:-0800
TZOFFSETTO:-0900
RDATE:20211107T020000
RDATE:20221106T020000
END:STANDARD
BEGIN:DAYLIGHT
TZNAME:AKDT
DTSTART:20210314T020000
TZOFFSETFROM:-0900
TZOFFSETTO:-0800
RDATE:20220313T020000
END:DAYLIGHT
END:VTIMEZONE
BEGIN:VEVENT
UID:042a90a4-9f1b-41b2-a628-547c02249c2e
DTSTAMP:20260425T202904Z
DESCRIPTION:Free\, confidential HIV and Hepatitis C testing\, at home HIV t
 esting kits\, Narcan\, reproductive health\, and sterile substance use sup
 plies. Do you have questions? Come ask us!
DTSTART;TZID=America/Anchorage:20210622T110000
DTEND;TZID=America/Anchorage:20210622T130000
LOCATION:Immaculate Conception Church\, 115 N. Cushman St. Fairbanks\, AK
SUMMARY:HIV Testing Week Event
END:VEVENT
END:VCALENDAR
