BEGIN:VCALENDAR
VERSION:2.0
PRODID:-//www.interioraids.org//NONSGML kigkonsult.se iCalcreator 2.30.10//
CALSCALE:GREGORIAN
METHOD:PUBLISH
UID:f1295571-3ba4-46d8-852a-1ff43b0fe878
X-WR-CALDESC:Free\, confidential HIV and Hepatitis C testing\, at home HIV 
 testing kits\, Narcan\, reproductive health\, and sterile substance use su
 pplies. Do you have questions? Come ask us!
X-WR-RELCALID:3b440f9f003465d89365c08011d2a610
X-WR-TIMEZONE:America/Anchorage
BEGIN:VTIMEZONE
TZID:America/Anchorage
BEGIN:STANDARD
TZNAME:AKST
DTSTART:20201101T020000
TZOFFSETFROM:-0800
TZOFFSETTO:-0900
RDATE:20211107T020000
RDATE:20221106T020000
END:STANDARD
BEGIN:DAYLIGHT
TZNAME:AKDT
DTSTART:20210314T020000
TZOFFSETFROM:-0900
TZOFFSETTO:-0800
RDATE:20220313T020000
END:DAYLIGHT
END:VTIMEZONE
BEGIN:VEVENT
UID:159dce16-4f73-4e0c-9865-cf0b3048ac1a
DTSTAMP:20260425T202719Z
DESCRIPTION:Free\, confidential HIV and Hepatitis C testing\, at home HIV t
 esting kits\, Narcan\, reproductive health\, and sterile substance use sup
 plies. Do you have questions? Come ask us!
DTSTART;TZID=America/Anchorage:20210623T100000
DTEND;TZID=America/Anchorage:20210623T140000
LOCATION:The Bridge\,724 27th Ave #2\, Fairbanks\, AK
SUMMARY:HIV Testing Week Event
END:VEVENT
END:VCALENDAR
