BEGIN:VCALENDAR
VERSION:2.0
PRODID:-//www.interioraids.org//NONSGML kigkonsult.se iCalcreator 2.30.10//
CALSCALE:GREGORIAN
METHOD:PUBLISH
UID:ed9abf2b-899f-476c-a50d-8f196d0f6580
X-WR-CALDESC:Free\, confidential HIV and Hepatitis C testing\, at home HIV 
 testing kits\, Narcan\, reproductive health\, and sterile substance use su
 pplies. Do you have questions? Come ask us!
X-WR-RELCALID:50b407a45a56dd308532fe5b4396d001
X-WR-TIMEZONE:America/Anchorage
BEGIN:VTIMEZONE
TZID:America/Anchorage
BEGIN:STANDARD
TZNAME:AKST
DTSTART:20201101T020000
TZOFFSETFROM:-0800
TZOFFSETTO:-0900
RDATE:20211107T020000
RDATE:20221106T020000
END:STANDARD
BEGIN:DAYLIGHT
TZNAME:AKDT
DTSTART:20210314T020000
TZOFFSETFROM:-0900
TZOFFSETTO:-0800
RDATE:20220313T020000
END:DAYLIGHT
END:VTIMEZONE
BEGIN:VEVENT
UID:dad6ac8f-a7e9-4cef-87ea-33c9e579a683
DTSTAMP:20260425T203119Z
DESCRIPTION:Free\, confidential HIV and Hepatitis C testing\, at home HIV t
 esting kits\, Narcan\, reproductive health\, and sterile substance use sup
 plies. Do you have questions? Come ask us!
DTSTART;TZID=America/Anchorage:20210624T100000
DTEND;TZID=America/Anchorage:20210624T140000
LOCATION:North Pole Plaza\, 301 N Santa Claus Ln # 2\, North Pole\, AK
SUMMARY:HIV Testing Week Event
END:VEVENT
END:VCALENDAR
