BEGIN:VCALENDAR
VERSION:2.0
PRODID:-//www.interioraids.org//NONSGML kigkonsult.se iCalcreator 2.30.10//
CALSCALE:GREGORIAN
METHOD:PUBLISH
UID:31f38414-0780-4d02-bfb6-3899f1d309f3
X-WR-CALDESC:Free\, confidential HIV and Hepatitis C testing\, at home HIV 
 testing kits\, Narcan\, reproductive health\, and sterile substance use su
 pplies. Do you have questions? Come ask us!
X-WR-RELCALID:ffc08c2a49eaf509c90a98fedce5acd3
X-WR-TIMEZONE:America/Anchorage
BEGIN:VTIMEZONE
TZID:America/Anchorage
BEGIN:STANDARD
TZNAME:AKST
DTSTART:20201101T020000
TZOFFSETFROM:-0800
TZOFFSETTO:-0900
RDATE:20211107T020000
RDATE:20221106T020000
END:STANDARD
BEGIN:DAYLIGHT
TZNAME:AKDT
DTSTART:20210314T020000
TZOFFSETFROM:-0900
TZOFFSETTO:-0800
RDATE:20220313T020000
END:DAYLIGHT
END:VTIMEZONE
BEGIN:VEVENT
UID:ee5843c1-6d47-4e31-aae1-8554af54ab9f
DTSTAMP:20260420T010715Z
DESCRIPTION:Free\, confidential HIV and Hepatitis C testing\, at home HIV t
 esting kits\, Narcan\, reproductive health\, and sterile substance use sup
 plies. Do you have questions? Come ask us!
DTSTART;TZID=America/Anchorage:20210625T160000
DTEND;TZID=America/Anchorage:20210625T200000
LOCATION:Goldie's\, 659 5th Ave\, Fairbanks\, AK
SUMMARY:HIV Testing Week Event
END:VEVENT
END:VCALENDAR
