BEGIN:VCALENDAR
VERSION:2.0
PRODID:-//www.interioraids.org//NONSGML kigkonsult.se iCalcreator 2.30.10//
CALSCALE:GREGORIAN
METHOD:PUBLISH
UID:dff6c7d2-9826-42b2-8170-482bdde05385
X-WR-CALDESC:Free\, confidential rapid HIV and Hepatitis C testing\, at-hom
 e HIV testing kits\, Narcan\, sharps containers\, sexual health and steril
 e substance use supplies will be available.
X-WR-RELCALID:d7fc30b878cf6f05067e916d29ae73c5
X-WR-TIMEZONE:America/Anchorage
BEGIN:VTIMEZONE
TZID:America/Anchorage
BEGIN:STANDARD
TZNAME:AKST
DTSTART:20211107T020000
TZOFFSETFROM:-0800
TZOFFSETTO:-0900
RDATE:20221106T020000
RDATE:20231105T020000
END:STANDARD
BEGIN:DAYLIGHT
TZNAME:AKDT
DTSTART:20220313T020000
TZOFFSETFROM:-0900
TZOFFSETTO:-0800
RDATE:20230312T020000
END:DAYLIGHT
END:VTIMEZONE
BEGIN:VEVENT
UID:dd474438-b4e2-48eb-9e15-09347e59a5b6
DTSTAMP:20260425T020726Z
DESCRIPTION:Free\, confidential rapid HIV and Hepatitis C testing\, at-home
  HIV testing kits\, Narcan\, sharps containers\, sexual health and sterile
  substance use supplies will be available.
DTSTART;TZID=America/Anchorage:20220627T070000
DTEND;TZID=America/Anchorage:20220627T093000
LOCATION:507 Gaffney Road\, Fairbanks\, AK 99701
SUMMARY:National HIV Testing Day Event!
END:VEVENT
END:VCALENDAR
