BEGIN:VCALENDAR
VERSION:2.0
PRODID:-//www.interioraids.org//NONSGML kigkonsult.se iCalcreator 2.30.10//
CALSCALE:GREGORIAN
METHOD:PUBLISH
UID:48ae16da-1418-4c83-999b-c8c76bd084c0
X-WR-CALDESC:Join us in beautiful Denali National Park on July 30th\, 2022 
 for the annual Moose Scat Scoot\, a 1/2 marathon\, 5k\, or 1.5 mile fun ru
 n that you can run\, walk or bike! There  will be family friendly activiti
 es to participate in before your run or during the event while you wait to
  cheer on participants crossing the finish line! Hungry? Grab a snack or a
  scoop of ice cream at the Riley Camp Mercantile.\n\nTickets are $25 per p
 articipant.\n\nCheck in for the race is 9:30am-10:30am at the Riley Creek 
 Mercantile. Once checked in\, you will then be transported up to the start
 ing point for whichever race you chose. The race end point is the Riley Cr
 eek Mercantile. \n\nMoose Scat Scoot Schedule\n\n9:30am - Registration ope
 ns\n10:30am - 1/2 Marathoners leave Riley Creek Mercantile\n\n11:15 - 1/2 
 Marathon starts\n\n11:30am - Registration closes\n11:45am - 5k runners lea
 ve Riley Creek Mercantile\n\n12:30pm - 5k starts\n\n1:00pm - 1.5 Mile Fun 
 Runners leave Riley Creek Mercantile\n\n1:15pm - 1.5 Mile Fun Run starts\n
 \n3:30pm - Prizes awarded\n\nThank you for your interest in supporting Int
 erior AIDS Association's work towards our goal of a world without HIV/AIDS
 .
X-WR-RELCALID:4afb45c4f7b32fb192d4671a76841683
X-WR-TIMEZONE:America/Anchorage
BEGIN:VTIMEZONE
TZID:America/Anchorage
BEGIN:STANDARD
TZNAME:AKST
DTSTART:20211107T020000
TZOFFSETFROM:-0800
TZOFFSETTO:-0900
RDATE:20221106T020000
RDATE:20231105T020000
END:STANDARD
BEGIN:DAYLIGHT
TZNAME:AKDT
DTSTART:20220313T020000
TZOFFSETFROM:-0900
TZOFFSETTO:-0800
RDATE:20230312T020000
END:DAYLIGHT
END:VTIMEZONE
BEGIN:VEVENT
UID:0269f7fb-0687-4b82-9d85-c4a8d1d4b56b
DTSTAMP:20260425T004651Z
DESCRIPTION:Join us in beautiful Denali National Park on July 30th\, 2022 f
 or the annual Moose Scat Scoot\, a 1/2 marathon\, 5k\, or 1.5 mile fun run
  that you can run\, walk or bike! There  will be family friendly activitie
 s to participate in before your run or during the event while you wait to 
 cheer on participants crossing the finish line! Hungry? Grab a snack or a 
 scoop of ice cream at the Riley Camp Mercantile.\n\nTickets are $25 per pa
 rticipant.\n\nCheck in for the race is 9:30am-10:30am at the Riley Creek M
 ercantile. Once checked in\, you will then be transported up to the starti
 ng point for whichever race you chose. The race end point is the Riley Cre
 ek Mercantile. \n\nMoose Scat Scoot Schedule\n\n9:30am - Registration open
 s\n10:30am - 1/2 Marathoners leave Riley Creek Mercantile\n\n11:15 - 1/2 M
 arathon starts\n\n11:30am - Registration closes\n11:45am - 5k runners leav
 e Riley Creek Mercantile\n\n12:30pm - 5k starts\n\n1:00pm - 1.5 Mile Fun R
 unners leave Riley Creek Mercantile\n\n1:15pm - 1.5 Mile Fun Run starts\n
 \n3:30pm - Prizes awarded\n\nThank you for your interest in supporting Int
 erior AIDS Association's work towards our goal of a world without HIV/AIDS
 .
DTSTART;TZID=America/Anchorage:20220730T093000
DTEND;TZID=America/Anchorage:20220730T153000
LOCATION:Riley Creek Mercantile
SUMMARY:2022 Moose Scat Scoot
END:VEVENT
END:VCALENDAR
