BEGIN:VCALENDAR
VERSION:2.0
PRODID:-//www.interioraids.org//NONSGML kigkonsult.se iCalcreator 2.30.10//
CALSCALE:GREGORIAN
METHOD:PUBLISH
UID:9df92748-6b8e-4783-9964-d614a172995b
X-WR-CALDESC:
X-WR-RELCALID:f0f8dd438f555e01b3a40d42b426c34e
X-WR-TIMEZONE:America/Anchorage
BEGIN:VTIMEZONE
TZID:America/Anchorage
BEGIN:STANDARD
TZNAME:AKST
DTSTART:20221106T020000
TZOFFSETFROM:-0800
TZOFFSETTO:-0900
RDATE:20231105T020000
END:STANDARD
BEGIN:DAYLIGHT
TZNAME:AKDT
DTSTART:20220313T020000
TZOFFSETFROM:-0900
TZOFFSETTO:-0800
RDATE:20230312T020000
RDATE:20240310T020000
END:DAYLIGHT
END:VTIMEZONE
BEGIN:VEVENT
UID:152a736f-4e34-47a1-a017-e64cd8cf1895
DTSTAMP:20260424T141906Z
DESCRIPTION:
DTSTART;TZID=America/Anchorage:20230222T100000
DTEND;TZID=America/Anchorage:20230222T114500
LOCATION:https://us02web.zoom.us/j/83920111608?pwd=SUNuVCtGb2k4VVRCMUErcGdu
 WGZjZz09
SUMMARY:Fairbanks Opioid Work Group
END:VEVENT
END:VCALENDAR
