BEGIN:VCALENDAR
VERSION:2.0
PRODID:-//www.interioraids.org//NONSGML kigkonsult.se iCalcreator 2.30.10//
CALSCALE:GREGORIAN
METHOD:PUBLISH
UID:959038e5-8d83-4ccd-8364-7fe5cd5097f2
X-WR-CALDESC:
X-WR-RELCALID:d51676cd5098a4bd9ff6e5f61d327c1d
X-WR-TIMEZONE:America/Anchorage
BEGIN:VTIMEZONE
TZID:America/Anchorage
BEGIN:STANDARD
TZNAME:AKST
DTSTART:20221106T020000
TZOFFSETFROM:-0800
TZOFFSETTO:-0900
RDATE:20231105T020000
RDATE:20241103T020000
END:STANDARD
BEGIN:DAYLIGHT
TZNAME:AKDT
DTSTART:20230312T020000
TZOFFSETFROM:-0900
TZOFFSETTO:-0800
RDATE:20240310T020000
END:DAYLIGHT
END:VTIMEZONE
BEGIN:VEVENT
UID:4f9ca6b1-b027-4d00-9c22-dcfd9f6719c3
DTSTAMP:20260420T061315Z
DESCRIPTION:
DTSTART;TZID=America/Anchorage:20230819T093000
DTEND;TZID=America/Anchorage:20230819T150000
LOCATION:
SUMMARY:2023 Moose Scat Scoot!
END:VEVENT
END:VCALENDAR
