BEGIN:VCALENDAR
VERSION:2.0
PRODID:-//www.interioraids.org//NONSGML kigkonsult.se iCalcreator 2.30.10//
CALSCALE:GREGORIAN
METHOD:PUBLISH
UID:75e4958f-40a0-4f83-97a2-437ba9b7cd75
X-WR-CALDESC:
X-WR-RELCALID:8a6694a83a7b0660b6cf0d390ac89e1a
X-WR-TIMEZONE:America/Anchorage
BEGIN:VTIMEZONE
TZID:America/Anchorage
BEGIN:STANDARD
TZNAME:AKST
DTSTART:20231105T020000
TZOFFSETFROM:-0800
TZOFFSETTO:-0900
RDATE:20241103T020000
RDATE:20251102T020000
END:STANDARD
BEGIN:DAYLIGHT
TZNAME:AKDT
DTSTART:20240310T020000
TZOFFSETFROM:-0900
TZOFFSETTO:-0800
RDATE:20250309T020000
END:DAYLIGHT
END:VTIMEZONE
BEGIN:VEVENT
UID:b44bd593-129d-4b1e-affa-1d3fbec31d6b
DTSTAMP:20260419T160726Z
DESCRIPTION:
DTSTART;TZID=America/Anchorage:20240529T100000
DTEND;TZID=America/Anchorage:20240529T114500
LOCATION:https://us02web.zoom.us/j/83920111608?pwd=SUNuVCtGb2k4VVRCMUErcGdu
 WGZjZz09
SUMMARY:Fairbanks Opioid Work Group
END:VEVENT
END:VCALENDAR
