BEGIN:VCALENDAR
VERSION:2.0
PRODID:-//www.interioraids.org//NONSGML kigkonsult.se iCalcreator 2.30.10//
CALSCALE:GREGORIAN
METHOD:PUBLISH
UID:80f9e7c9-26a9-490c-9fd2-e4891d264b77
X-WR-CALDESC:Pioneer Park's Alaska Centennial Center\nDoors open at 5:00pm\
 , show starts at 6:00pm\n\n
X-WR-RELCALID:9f7f670d2c8c6f7db7c86478de14d114
X-WR-TIMEZONE:America/Anchorage
BEGIN:VTIMEZONE
TZID:America/Anchorage
BEGIN:STANDARD
TZNAME:AKST
DTSTART:20231105T020000
TZOFFSETFROM:-0800
TZOFFSETTO:-0900
RDATE:20241103T020000
RDATE:20251102T020000
END:STANDARD
BEGIN:DAYLIGHT
TZNAME:AKDT
DTSTART:20240310T020000
TZOFFSETFROM:-0900
TZOFFSETTO:-0800
RDATE:20250309T020000
END:DAYLIGHT
END:VTIMEZONE
BEGIN:VEVENT
UID:27587c3c-f66e-4788-8a7b-796d99000455
DTSTAMP:20260419T142919Z
DESCRIPTION:Pioneer Park's Alaska Centennial Center\nDoors open at 5:00pm\,
  show starts at 6:00pm\n\n
DTSTART;TZID=America/Anchorage:20240627T170000
DTEND;TZID=America/Anchorage:20240627T200000
LOCATION:Pioneer Park's Centennial Center\, 2300 Airport Way\, Fairbanks\, 
 AK 99701 US
SUMMARY:National HIV Testing Day
END:VEVENT
END:VCALENDAR
