BEGIN:VCALENDAR
VERSION:2.0
PRODID:-//www.interioraids.org//NONSGML kigkonsult.se iCalcreator 2.30.10//
CALSCALE:GREGORIAN
METHOD:PUBLISH
UID:bc77d6b6-0baf-40e9-8c4f-58b0671a0516
X-WR-CALDESC:Railbelt Mental Health and Addictions clinic is hosting a Heal
 th Fair and 5K Fun Color Run to honor diversity\, uniqueness and raise awa
 reness of mental health. Resource booths will be available at the start of
  the event. The run will conclude at the public playground\, where light s
 nacks and refreshments will be available. #LetYourTrueColorsShine
X-WR-RELCALID:d7ac3cea8a793a0edfc96473bc268859
X-WR-TIMEZONE:America/Anchorage
BEGIN:VTIMEZONE
TZID:America/Anchorage
BEGIN:STANDARD
TZNAME:AKST
DTSTART:20231105T020000
TZOFFSETFROM:-0800
TZOFFSETTO:-0900
RDATE:20241103T020000
RDATE:20251102T020000
END:STANDARD
BEGIN:DAYLIGHT
TZNAME:AKDT
DTSTART:20240310T020000
TZOFFSETFROM:-0900
TZOFFSETTO:-0800
RDATE:20250309T020000
END:DAYLIGHT
END:VTIMEZONE
BEGIN:VEVENT
UID:1551f7f8-8bba-4b0c-8fcd-a432320fb25d
DTSTAMP:20260419T184836Z
DESCRIPTION:Railbelt Mental Health and Addictions clinic is hosting a Healt
 h Fair and 5K Fun Color Run to honor diversity\, uniqueness and raise awar
 eness of mental health. Resource booths will be available at the start of 
 the event. The run will conclude at the public playground\, where light sn
 acks and refreshments will be available. #LetYourTrueColorsShine
DTSTART;TZID=America/Anchorage:20240817T093000
DTEND;TZID=America/Anchorage:20240817T140000
LOCATION:Nenana City Square
SUMMARY:Nenana Health Fair & 5K Fun Color Run
END:VEVENT
END:VCALENDAR
