BEGIN:VCALENDAR
VERSION:2.0
PRODID:-//www.interioraids.org//NONSGML kigkonsult.se iCalcreator 2.30.10//
CALSCALE:GREGORIAN
METHOD:PUBLISH
UID:850da20d-c779-4270-9bd0-91a4a2dfdbdc
X-WR-CALDESC:This all-age event is open to the public. It will be a time to
  memorialize those who have been affected by the opioid epidemic both from
  a local and national perspective.\n\nCatering: Doyon\, (yummy) Indian tac
 os \n\nJustin Pendergrass and Michael Sisson-Cultural Rappers from Wasilla
 \n\nPoetry and Victims of overdose reading by Monique and Debra \n\nDrummi
 ng and Balloon ceremony \n\nResource Booths and activity tables for all ag
 es
X-WR-RELCALID:53d9e06adfecd5412a39bda55e0d9615
X-WR-TIMEZONE:America/Anchorage
BEGIN:VTIMEZONE
TZID:America/Anchorage
BEGIN:STANDARD
TZNAME:AKST
DTSTART:20231105T020000
TZOFFSETFROM:-0800
TZOFFSETTO:-0900
RDATE:20241103T020000
RDATE:20251102T020000
END:STANDARD
BEGIN:DAYLIGHT
TZNAME:AKDT
DTSTART:20240310T020000
TZOFFSETFROM:-0900
TZOFFSETTO:-0800
RDATE:20250309T020000
END:DAYLIGHT
END:VTIMEZONE
BEGIN:VEVENT
UID:65b3b837-76b5-49f1-91e9-a0945445f4f1
DTSTAMP:20260419T185522Z
DESCRIPTION:This all-age event is open to the public. It will be a time to 
 memorialize those who have been affected by the opioid epidemic both from 
 a local and national perspective.\n\nCatering: Doyon\, (yummy) Indian taco
 s \n\nJustin Pendergrass and Michael Sisson-Cultural Rappers from Wasilla
 \n\nPoetry and Victims of overdose reading by Monique and Debra \n\nDrummi
 ng and Balloon ceremony \n\nResource Booths and activity tables for all ag
 es
DTSTART;TZID=America/Anchorage:20240831T123000
DTEND;TZID=America/Anchorage:20240831T170000
LOCATION:Starting Point: Griffen Park in Fairbanks (next to courthouse) End
 ing Point: Pioneer Park Wilderness Pavilion
SUMMARY:International Overdose Awareness Day Walk
END:VEVENT
END:VCALENDAR
