BEGIN:VCALENDAR
VERSION:2.0
PRODID:-//www.interioraids.org//NONSGML kigkonsult.se iCalcreator 2.30.10//
CALSCALE:GREGORIAN
METHOD:PUBLISH
UID:1f8b96cd-9a16-4ece-8dfc-7e913929fd49
X-WR-CALDESC:
X-WR-RELCALID:f9555794fe698ca9c0dec9e79c5108ba
X-WR-TIMEZONE:America/Anchorage
BEGIN:VTIMEZONE
TZID:America/Anchorage
BEGIN:STANDARD
TZNAME:AKST
DTSTART:20231105T020000
TZOFFSETFROM:-0800
TZOFFSETTO:-0900
RDATE:20241103T020000
RDATE:20251102T020000
END:STANDARD
BEGIN:DAYLIGHT
TZNAME:AKDT
DTSTART:20240310T020000
TZOFFSETFROM:-0900
TZOFFSETTO:-0800
RDATE:20250309T020000
RDATE:20260308T020000
END:DAYLIGHT
END:VTIMEZONE
BEGIN:VEVENT
UID:35534dcb-45ce-4190-82ce-8e31bc447bfd
DTSTAMP:20260419T192049Z
DESCRIPTION:
DTSTART;TZID=America/Anchorage:20240907T120000
DTEND;TZID=America/Anchorage:20240907T180000
LOCATION:Memorial Lake\, Fairbanks\, AK 99701 US
SUMMARY:Fort Wainwright Wellness Fair
END:VEVENT
END:VCALENDAR
