BEGIN:VCALENDAR
VERSION:2.0
PRODID:-//www.interioraids.org//NONSGML kigkonsult.se iCalcreator 2.30.10//
CALSCALE:GREGORIAN
METHOD:PUBLISH
UID:86722525-5cc3-4a2b-aafd-15b89134c90e
X-WR-CALDESC:
X-WR-RELCALID:1206cf5bfe14b56293a90b5ed76c3dce
X-WR-TIMEZONE:America/Anchorage
BEGIN:VTIMEZONE
TZID:America/Anchorage
BEGIN:STANDARD
TZNAME:AKST
DTSTART:20241103T020000
TZOFFSETFROM:-0800
TZOFFSETTO:-0900
RDATE:20251102T020000
RDATE:20261101T020000
END:STANDARD
BEGIN:DAYLIGHT
TZNAME:AKDT
DTSTART:20250309T020000
TZOFFSETFROM:-0900
TZOFFSETTO:-0800
RDATE:20260308T020000
END:DAYLIGHT
END:VTIMEZONE
BEGIN:VEVENT
UID:74082d8e-ddeb-4d13-bd9f-b42e8ecd572b
DTSTAMP:20260424T161109Z
DESCRIPTION:
DTSTART;TZID=America/Anchorage:20250528T100000
DTEND;TZID=America/Anchorage:20250528T114500
LOCATION:https://us02web.zoom.us/j/83920111608?pwd=SUNuVCtGb2k4VVRCMUErcGdu
 WGZjZz09
SUMMARY:Fairbanks Opioid Work Group
END:VEVENT
END:VCALENDAR
