BEGIN:VCALENDAR
VERSION:2.0
PRODID:-//www.interioraids.org//NONSGML kigkonsult.se iCalcreator 2.30.10//
CALSCALE:GREGORIAN
METHOD:PUBLISH
UID:4dcdbdbc-ce26-46b1-9eb2-2d30349eacb8
X-WR-CALDESC:IAA's 2nd Annual Drag Show! In support of National HIV Testing
  Day. Doors open at 5:30pm. Show starts at 6:00pm\n\n18+ Years Old Event\n
 \nAs we commemorate National HIV Testing Day\, we invite you to be part of
  a vibrant celebration of life\, love\, and resilience.\n\nBut that's not 
 all – we're also serving up a delectable spread of free food and refreshme
 nts throughout the evening.\n\nHere's the best part: we're offering free t
 ickets to the event for anyone who gets an HIV test during the week leadin
 g up to the show! It's our way of encouraging everyone to take charge of t
 heir health and make informed choices about their well-being. One ticket p
 er person.\n\nIn addition to the dazzling performances and delicious food\
 , we'll have resources available on-site for HIV prevention\, testing\, an
 d treatment. Our knowledgeable staff and volunteers will be on hand to ans
 wer questions\, provide support\, and connect attendees with the resources
  they need to stay healthy and empowered.\n\nSo grab your friends\, put on
  your fiercest outfit\, and join us for an unforgettable evening of glamou
 r\, solidarity\, and community. Together\, let's celebrate National HIV Te
 sting Day with pride and passion\, as we work towards a future where HIV i
 s no longer a barrier to living our best lives.
X-WR-RELCALID:e04416426a753c39b7ae2c162a6ba08f
X-WR-TIMEZONE:America/Anchorage
BEGIN:VTIMEZONE
TZID:America/Anchorage
BEGIN:STANDARD
TZNAME:AKST
DTSTART:20241103T020000
TZOFFSETFROM:-0800
TZOFFSETTO:-0900
RDATE:20251102T020000
RDATE:20261101T020000
END:STANDARD
BEGIN:DAYLIGHT
TZNAME:AKDT
DTSTART:20250309T020000
TZOFFSETFROM:-0900
TZOFFSETTO:-0800
RDATE:20260308T020000
END:DAYLIGHT
END:VTIMEZONE
BEGIN:VEVENT
UID:fc660a81-d568-430c-8c8f-b6c7e9d96303
DTSTAMP:20260424T173129Z
DESCRIPTION:IAA's 2nd Annual Drag Show! In support of National HIV Testing 
 Day. Doors open at 5:30pm. Show starts at 6:00pm\n\n18+ Years Old Event\n
 \nAs we commemorate National HIV Testing Day\, we invite you to be part of
  a vibrant celebration of life\, love\, and resilience.\n\nBut that's not 
 all – we're also serving up a delectable spread of free food and refreshme
 nts throughout the evening.\n\nHere's the best part: we're offering free t
 ickets to the event for anyone who gets an HIV test during the week leadin
 g up to the show! It's our way of encouraging everyone to take charge of t
 heir health and make informed choices about their well-being. One ticket p
 er person.\n\nIn addition to the dazzling performances and delicious food\
 , we'll have resources available on-site for HIV prevention\, testing\, an
 d treatment. Our knowledgeable staff and volunteers will be on hand to ans
 wer questions\, provide support\, and connect attendees with the resources
  they need to stay healthy and empowered.\n\nSo grab your friends\, put on
  your fiercest outfit\, and join us for an unforgettable evening of glamou
 r\, solidarity\, and community. Together\, let's celebrate National HIV Te
 sting Day with pride and passion\, as we work towards a future where HIV i
 s no longer a barrier to living our best lives.
DTSTART;TZID=America/Anchorage:20250627T173000
DTEND;TZID=America/Anchorage:20250627T210000
LOCATION:Unitarian Universalist Fellowship of Fairbanks\, 4448 Pikes Landin
 g Road\, Fairbanks\, AK 99709 US
SUMMARY:Drag Show for National HIV Testing Day -  Event is 18+ Years Old
END:VEVENT
END:VCALENDAR
