BEGIN:VCALENDAR
VERSION:2.0
PRODID:-//www.interioraids.org//NONSGML kigkonsult.se iCalcreator 2.30.10//
CALSCALE:GREGORIAN
METHOD:PUBLISH
UID:4bf28ab7-bd97-4c6d-a9d1-e04c83f6707d
X-WR-CALDESC:Sign up to participate in a Half Marathon\, 5K\, or 1.5-mile F
 un Run inside Denali National Park! All proceeds go to the Interior AIDS A
 ssociation. Pre-registration closes at 11:30 pm on Thursday\, July 17th. R
 egistration for the event will be available starting at 9:30 a.m. on July 
 19th\, before the race. Can't wait to see you there!
X-WR-RELCALID:b8521d317ad643a437407fcde4946536
X-WR-TIMEZONE:America/Anchorage
BEGIN:VTIMEZONE
TZID:America/Anchorage
BEGIN:STANDARD
TZNAME:AKST
DTSTART:20241103T020000
TZOFFSETFROM:-0800
TZOFFSETTO:-0900
RDATE:20251102T020000
RDATE:20261101T020000
END:STANDARD
BEGIN:DAYLIGHT
TZNAME:AKDT
DTSTART:20250309T020000
TZOFFSETFROM:-0900
TZOFFSETTO:-0800
RDATE:20260308T020000
END:DAYLIGHT
END:VTIMEZONE
BEGIN:VEVENT
UID:aa0e3b8d-223e-41c1-beeb-e3d7f85ab9cb
DTSTAMP:20260421T081745Z
DESCRIPTION:Sign up to participate in a Half Marathon\, 5K\, or 1.5-mile Fu
 n Run inside Denali National Park! All proceeds go to the Interior AIDS As
 sociation. Pre-registration closes at 11:30 pm on Thursday\, July 17th. Re
 gistration for the event will be available starting at 9:30 a.m. on July 1
 9th\, before the race. Can't wait to see you there!
DTSTART;TZID=America/Anchorage:20250719T093000
DTEND;TZID=America/Anchorage:20250719T160000
LOCATION:Riley Creek Mercantile\, Denali Park Rd\, Denali National Park\, A
 L 99755 US
SUMMARY:2025 Moose Scat Scoot
END:VEVENT
END:VCALENDAR
