BEGIN:VCALENDAR
VERSION:2.0
PRODID:-//www.interioraids.org//NONSGML kigkonsult.se iCalcreator 2.30.10//
CALSCALE:GREGORIAN
METHOD:PUBLISH
UID:0d2882b6-c866-44f8-89a5-3beacd781ba3
X-WR-CALDESC:
X-WR-RELCALID:3fd4b45f24702f1b4893b936cc68c619
X-WR-TIMEZONE:America/Anchorage
BEGIN:VTIMEZONE
TZID:America/Anchorage
BEGIN:STANDARD
TZNAME:AKST
DTSTART:20251102T020000
TZOFFSETFROM:-0800
TZOFFSETTO:-0900
RDATE:20261101T020000
END:STANDARD
BEGIN:DAYLIGHT
TZNAME:AKDT
DTSTART:20260308T020000
TZOFFSETFROM:-0900
TZOFFSETTO:-0800
RDATE:20270314T020000
END:DAYLIGHT
END:VTIMEZONE
BEGIN:VEVENT
UID:6458d501-8a48-4242-ab2f-895ada638ff0
DTSTAMP:20260421T080527Z
DESCRIPTION:
DTSTART;TZID=America/Anchorage:20260324T070000
DTEND;TZID=America/Anchorage:20260324T093000
LOCATION:710 3rd Ave\, Fairbanks\, AK 99701
SUMMARY:IMAT Dosing Hours
END:VEVENT
END:VCALENDAR
