BEGIN:VCALENDAR
VERSION:2.0
PRODID:-//www.interioraids.org//NONSGML kigkonsult.se iCalcreator 2.30.10//
CALSCALE:GREGORIAN
METHOD:PUBLISH
UID:8c9b0107-5ab9-4aa3-ac47-8f8a81569989
X-WR-CALDESC:
X-WR-RELCALID:5b42fb1f963a62e00a02f9b7a90c143a
X-WR-TIMEZONE:America/Anchorage
BEGIN:VTIMEZONE
TZID:America/Anchorage
BEGIN:STANDARD
TZNAME:AKST
DTSTART:20251102T020000
TZOFFSETFROM:-0800
TZOFFSETTO:-0900
RDATE:20261101T020000
END:STANDARD
BEGIN:DAYLIGHT
TZNAME:AKDT
DTSTART:20260308T020000
TZOFFSETFROM:-0900
TZOFFSETTO:-0800
RDATE:20270314T020000
END:DAYLIGHT
END:VTIMEZONE
BEGIN:VEVENT
UID:c587eb97-7c7d-4c74-962e-66ff749676cb
DTSTAMP:20260419T123217Z
DESCRIPTION:
DTSTART;TZID=America/Anchorage:20260410T070000
DTEND;TZID=America/Anchorage:20260410T093000
LOCATION:710 3rd Ave\, Fairbanks\, AK 99701
SUMMARY:IMAT Dosing Hours
END:VEVENT
END:VCALENDAR
