BEGIN:VCALENDAR
VERSION:2.0
PRODID:-//www.interioraids.org//NONSGML kigkonsult.se iCalcreator 2.30.10//
CALSCALE:GREGORIAN
METHOD:PUBLISH
UID:15b7bac2-9bfc-4b91-8d8e-a64105a89c43
X-WR-CALDESC:
X-WR-RELCALID:a143e08cc4636f80a732b5282f377a69
X-WR-TIMEZONE:America/Anchorage
BEGIN:VTIMEZONE
TZID:America/Anchorage
BEGIN:STANDARD
TZNAME:AKST
DTSTART:20251102T020000
TZOFFSETFROM:-0800
TZOFFSETTO:-0900
RDATE:20261101T020000
END:STANDARD
BEGIN:DAYLIGHT
TZNAME:AKDT
DTSTART:20260308T020000
TZOFFSETFROM:-0900
TZOFFSETTO:-0800
RDATE:20270314T020000
END:DAYLIGHT
END:VTIMEZONE
BEGIN:VEVENT
UID:663c0379-cb42-47d8-923e-f1a37d719f8f
DTSTAMP:20260421T080335Z
DESCRIPTION:
DTSTART;TZID=America/Anchorage:20260411T080000
DTEND;TZID=America/Anchorage:20260411T100000
LOCATION:710 3rd Ave\, Fairbanks\, AK 99701
SUMMARY:IMAT Dosing Hours
END:VEVENT
END:VCALENDAR
